BEGIN:VCALENDAR
VERSION:2.0
PRODID:-//ANSSI – Salon des maires//Sites Conformes//FR
BEGIN:VEVENT
SUMMARY:Salon des maires
DTSTART:20261124T080000Z
DTEND:20261126T170000Z
DTSTAMP:20260420T115325Z
UID:1011
LOCATION:Paris Porte de Versailles
END:VEVENT
END:VCALENDAR
