BEGIN:VCALENDAR
VERSION:2.0
PRODID:-//ANSSI – Agenda de l'ANSSI//Sites Conformes//FR
BEGIN:VEVENT
SUMMARY:leHACK 2026
DTSTART:20260626T070000Z
DTEND:20260628T160000Z
DTSTAMP:20260420T120028Z
UID:1008
LOCATION:Cité des sciences de Paris
END:VEVENT
BEGIN:VEVENT
SUMMARY:Assises de Monaco
DTSTART:20261007T070000Z
DTEND:20261010T160000Z
DTSTAMP:20260420T120028Z
UID:1009
LOCATION:Monaco
END:VEVENT
BEGIN:VEVENT
SUMMARY:European cybersecurity challenge
DTSTART:20261012T070000Z
DTEND:20261016T160000Z
DTSTAMP:20260420T120028Z
UID:1022
LOCATION:Bochum
END:VEVENT
BEGIN:VEVENT
SUMMARY:European Cyber Week
DTSTART:20261116T080000Z
DTEND:20261118T170000Z
DTSTAMP:20260420T120028Z
UID:1010
LOCATION:Couvent des Jacobins\, Rennes
END:VEVENT
BEGIN:VEVENT
SUMMARY:Salon des maires
DTSTART:20261124T080000Z
DTEND:20261126T170000Z
DTSTAMP:20260420T120028Z
UID:1011
LOCATION:Paris Porte de Versailles
END:VEVENT
END:VCALENDAR
