BEGIN:VCALENDAR
VERSION:2.0
PRODID:-//ANSSI – Forum InCyber 2026//Sites Conformes//FR
BEGIN:VEVENT
SUMMARY:Forum InCyber 2026
DTSTART:20260331T070000Z
DTEND:20260402T160000Z
DTSTAMP:20260420T144813Z
UID:1007
LOCATION:Lille Grand Palais
END:VEVENT
END:VCALENDAR
