BEGIN:VCALENDAR
VERSION:2.0
PRODID:-//ANSSI – European Cyber Week//Sites Conformes//FR
BEGIN:VEVENT
SUMMARY:European Cyber Week
DTSTART:20261116T080000Z
DTEND:20261118T170000Z
DTSTAMP:20260420T181342Z
UID:1010
LOCATION:Couvent des Jacobins\, Rennes
END:VEVENT
END:VCALENDAR
